BEGIN:VCALENDAR
VERSION:2.0
PRODID:-//Sleep Inn Hotel - ECPv6.15.20//NONSGML v1.0//EN
CALSCALE:GREGORIAN
METHOD:PUBLISH
X-WR-CALNAME:Sleep Inn Hotel
X-ORIGINAL-URL:https://mthopesleepinn.com
X-WR-CALDESC:Events for Sleep Inn Hotel
REFRESH-INTERVAL;VALUE=DURATION:PT1H
X-Robots-Tag:noindex
X-PUBLISHED-TTL:PT1H
BEGIN:VTIMEZONE
TZID:UTC
BEGIN:STANDARD
TZOFFSETFROM:+0000
TZOFFSETTO:+0000
TZNAME:UTC
DTSTART:20210101T000000
END:STANDARD
END:VTIMEZONE
BEGIN:VEVENT
DTSTART;TZID=UTC:20250411T150000
DTEND;TZID=UTC:20250412T170000
DTSTAMP:20260423T044750
CREATED:20250301T081733Z
LAST-MODIFIED:20260210T154457Z
UID:943-1744383600-1744477200@mthopesleepinn.com
SUMMARY:Chupp Amish Furniture Auction
DESCRIPTION:The Spring Amish Furniture Auction\, presented by Steve Chupp Auctions\, will be held in the Mt. Hope Event Center on Friday April 11 and Saturday April 12th. \nThe auction will be in both the Event Center and Dean Beachy Horse Arena on the campus of the Mt. Hope Auction. That is over 80\,000 sq. ft. of auction items. \nFor more information about the auction and to learn more about consignments\, please visit; \nhttp://www.stevechuppauctions.com/auctions \nItems Include\, Deluxe roll top desk\, Computer desks\, desks\, secretary desk\,  file cabinets\, book shelves\,  50 plus complete bedroom suites\, 100 plus complete dining room suites \, dining room tables\, lots of  beds\, chairs\, hutches\, bedroom furniture\, hall trees\, hall seats \,hickory rockers\, oak glider rockers\, blanket chests\, crafts\, sofas\,(20) plus recliners\, sectional sofas\, TV stands\, coffee tables\, end tables\, occasional tables\, plant stands\, pie safes\, jelly cupboards\, rustic furniture \,area rugs\, lots of outdoor Poly furniture\, and much more. \nWe will have furniture from over 100 local craftsmen. A very good selection of\, bedroom suites and dining room suites. Furniture in quarter sawn oak\, oak\, brown maple\, and hickory. All wood items are made by local Amish Craftsman . We will be open   Friday night April 19 from 5 to 9 P.M. for preview. Pictures posted on www.auctionzip.com I.D.7788. Or on\, www.stevechuppauctions.com.We will have 2500 lots or more. We will sell in 5 rings. If you have never been to our furniture auction\, it’s an experience you will never forget.
URL:https://mthopesleepinn.com/event/chupp-amish-furniture-auction/
LOCATION:Mt. Hope Event Center\, 8076 SR 241\, Millersburg\, OH\, 44654\, United States
CATEGORIES:Auction
ATTACH;FMTTYPE=image/jpeg:https://mthopesleepinn.com/wp-content/uploads/2025/03/IMG_0306-8w3e9V.tmp_-scaled.jpg
END:VEVENT
BEGIN:VEVENT
DTSTART;TZID=UTC:20250321T080000
DTEND;TZID=UTC:20250322T170000
DTSTAMP:20260423T044750
CREATED:20250130T071720Z
LAST-MODIFIED:20260210T154257Z
UID:897-1742544000-1742662800@mthopesleepinn.com
SUMMARY:Steve Chupp Taxidermy Auction
DESCRIPTION:Steve Chupp Auctions will hold their Taxidermy Auction in the Mt. Hope Event Center on Thursday March 20 and Friday March 21\, 2025.  More details about this sale can be found at: http://www.stevechuppauctions.com
URL:https://mthopesleepinn.com/event/steve-chupp-taxidermy-auction/
LOCATION:Mt. Hope Event Center\, 8076 SR 241\, Millersburg\, OH\, 44654\, United States
CATEGORIES:Auction
ATTACH;FMTTYPE=image/png:https://mthopesleepinn.com/wp-content/uploads/2025/01/Screen-Shot-2021-03-18-at-3.00.45-PM-30M3Ts.tmp_.png
END:VEVENT
BEGIN:VEVENT
DTSTART;TZID=UTC:20250315T143000
DTEND;TZID=UTC:20250315T235900
DTSTAMP:20260423T044750
CREATED:20250130T071719Z
LAST-MODIFIED:20260210T154248Z
UID:896-1742049000-1742083140@mthopesleepinn.com
SUMMARY:Whitetails Heritage of Ohio – Annual Fundraiser
DESCRIPTION:The Whitetail Heritage of Ohio Fundraiser Banquet will take place at the Mt. Hope Event Center on March 15\, 2025. Doors will open at 2:30pm with the Progressive dinner being served from 4pm – 7pm. \n  \n \n  \nMust be pre-registered. \nFor more information call Mark Schlabach – 330.231.0596 \n 
URL:https://mthopesleepinn.com/event/whitetails-heritage-of-ohio-annual-fundraiser/
LOCATION:Mt. Hope Event Center\, 8076 SR 241\, Millersburg\, OH\, 44654\, United States
CATEGORIES:Auction
ATTACH;FMTTYPE=image/png:https://mthopesleepinn.com/wp-content/uploads/2025/01/mt_hope_event_standard_images-3tVt4G.tmp_.png
END:VEVENT
BEGIN:VEVENT
DTSTART;VALUE=DATE:20250221
DTEND;VALUE=DATE:20250223
DTSTAMP:20260423T044750
CREATED:20250130T071718Z
LAST-MODIFIED:20260210T154243Z
UID:890-1740096000-1740268799@mthopesleepinn.com
SUMMARY:Ohio Forum For Companion Animals – Seminar
DESCRIPTION:The two-day Ohio Forum For Companion Animals event will take place in the Mt. Hope Event Center on Friday\, February 21 and Saturday\, February 22\, 2025 . This event is a vendor show that includes educational speakers and meals for all in attendance. \n  \n \n  \nFor more information on this show\, contact organizer Joe Miller –> 740.622.1752 \n  \n 
URL:https://mthopesleepinn.com/event/ohio-forum-for-companion-animals-seminar/
LOCATION:Mt. Hope Event Center\, 8076 SR 241\, Millersburg\, OH\, 44654\, United States
CATEGORIES:Auction,Benefit
ATTACH;FMTTYPE=image/png:https://mthopesleepinn.com/wp-content/uploads/2025/01/mt_hope_event_standard_images-3tVt4G.tmp_.png
END:VEVENT
BEGIN:VEVENT
DTSTART;TZID=UTC:20250213T100000
DTEND;TZID=UTC:20250215T120000
DTSTAMP:20260423T044750
CREATED:20250130T071718Z
LAST-MODIFIED:20260210T154640Z
UID:889-1739440800-1739620800@mthopesleepinn.com
SUMMARY:Mt. Hope Showcase / Airworks Auction
DESCRIPTION:The Mt. Hope Showcase Tool Show will take place at the Mt. Hope Event Center on February 13\, 14 and 15\, 2025 \nThe show hours are as follows; \nThursday 2/13 – 10am-7pm\nFriday 2/14 – 7am – 7pm\nSaturday 2/15 – 7am – 12pm \nAdmission to the show is FREE. \nThe auction accepts consignments of industrial tools\, woodworking\, sawmill\, and pallet equipment. During the sale\, a Tool Show is also running inside our new 80\,000 sq ft Event Center. For more information contact the office at 330-749-4362. \n\n\n\n 
URL:https://mthopesleepinn.com/event/mt-hope-showcase-airworks-auction/
LOCATION:Mt. Hope Event Center\, 8076 SR 241\, Millersburg\, OH\, 44654\, United States
CATEGORIES:Auction,Trade Show
ATTACH;FMTTYPE=image/png:https://mthopesleepinn.com/wp-content/uploads/2025/01/Screen-Shot-2024-01-24-at-8.23.57-AM-FPfYAq.tmp_.png
END:VEVENT
BEGIN:VEVENT
DTSTART;TZID=UTC:20230218T070000
DTEND;TZID=UTC:20230218T130000
DTSTAMP:20260423T044750
CREATED:20221213T013214Z
LAST-MODIFIED:20221213T214114Z
UID:559-1676703600-1676725200@mthopesleepinn.com
SUMMARY:Mt. Hope Showcase / Air Works Auction: Day 3
DESCRIPTION:The Mt. Hope Showcase Tool Show will take place at the Mt. Hope Event Center on February 16\, 17\, and 18\, 2023. \nThe show hours are as follows; \nThursday 2/16 – 10am-7pm\nFriday 2/17 – 7am – 7pm\nSaturday 2/18 – 7am – 1pm \nAdmission to the show is FREE. \nThe auction accepts consignments of industrial tools\, woodworking\, sawmill\, and pallet equipment. During the sale\, a Tool Show is also running inside our new 60\,000 sq ft Event Center. For more information\, contact: \nReuben Troyer @ 330-698-0388\nDanny Troyer @ 330-317-9259\nor go to www.airworksauction.com \n\n\n\nhttps://www.airworksauction.com/home/
URL:https://mthopesleepinn.com/event/mt-hope-showcase-air-works-auction-day-3/
LOCATION:Mt. Hope Event Center\, 8076 SR 241\, Millersburg\, OH\, 44654\, United States
CATEGORIES:Auction
ATTACH;FMTTYPE=image/jpeg:https://mthopesleepinn.com/wp-content/uploads/2022/12/mt_hope_airworks_auction_show.jpg
END:VEVENT
BEGIN:VEVENT
DTSTART;TZID=UTC:20230217T070000
DTEND;TZID=UTC:20230217T190000
DTSTAMP:20260423T044750
CREATED:20221213T013213Z
LAST-MODIFIED:20221213T214043Z
UID:558-1676617200-1676660400@mthopesleepinn.com
SUMMARY:Mt. Hope Showcase / Air Works Auction: Day 2
DESCRIPTION:The Mt. Hope Showcase Tool Show will take place at the Mt. Hope Event Center on February 16\, 17\, and 18\, 2023. \nThe show hours are as follows; \nThursday 2/16 – 10am-7pm\nFriday 2/17 – 7am – 7pm\nSaturday 2/18 – 7am – 1pm \nAdmission to the show is FREE. \nThe auction accepts consignments of industrial tools\, woodworking\, sawmill\, and pallet equipment. During the sale\, a Tool Show is also running inside our new 60\,000 sq ft Event Center. For more information\, contact: \nReuben Troyer @ 330-698-0388\nDanny Troyer @ 330-317-9259\nor go to www.airworksauction.com \n\n\n\nhttps://www.airworksauction.com/home/
URL:https://mthopesleepinn.com/event/mt-hope-showcase-air-works-auction-day-2/
LOCATION:Mt. Hope Event Center\, 8076 SR 241\, Millersburg\, OH\, 44654\, United States
CATEGORIES:Auction
ATTACH;FMTTYPE=image/jpeg:https://mthopesleepinn.com/wp-content/uploads/2022/12/mt_hope_airworks_auction_show.jpg
END:VEVENT
BEGIN:VEVENT
DTSTART;TZID=UTC:20230216T100000
DTEND;TZID=UTC:20230216T190000
DTSTAMP:20260423T044750
CREATED:20221213T013212Z
LAST-MODIFIED:20221213T213857Z
UID:557-1676541600-1676574000@mthopesleepinn.com
SUMMARY:Mt. Hope Showcase / Air Works Auction: Day 1
DESCRIPTION:The Mt. Hope Showcase Tool Show will take place at the Mt. Hope Event Center on February 16\, 17\, and 18\, 2023. \nThe show hours are as follows; \nThursday 2/16 – 10am-7pm\nFriday 2/17 – 7am – 7pm\nSaturday 2/18 – 7am – 1pm \nAdmission to the show is FREE. \nThe auction accepts consignments of industrial tools\, woodworking\, sawmill\, and pallet equipment. During the sale\, a Tool Show is also running inside our new 60\,000 sq ft Event Center. For more information\, contact: \nReuben Troyer @ 330-698-0388\nDanny Troyer @ 330-317-9259\nor go to www.airworksauction.com \n\n\n\nhttps://www.airworksauction.com/home/
URL:https://mthopesleepinn.com/event/mt-hope-showcase-air-works-auction-day-1/
LOCATION:Mt. Hope Event Center\, 8076 SR 241\, Millersburg\, OH\, 44654\, United States
CATEGORIES:Auction
ATTACH;FMTTYPE=image/jpeg:https://mthopesleepinn.com/wp-content/uploads/2022/12/mt_hope_airworks_auction_show.jpg
END:VEVENT
BEGIN:VEVENT
DTSTART;TZID=UTC:20230123T080000
DTEND;TZID=UTC:20230128T170000
DTSTAMP:20260423T044750
CREATED:20221213T013159Z
LAST-MODIFIED:20221213T231940Z
UID:555-1674460800-1674925200@mthopesleepinn.com
SUMMARY:Stallion Presentation Day
DESCRIPTION:The Stallion Presentation Day will take place at the Mt. Hope Event Center on Saturday\, January 28\, 2023 \nTo get consignment forms and more information\, contact:\nAaron Hershberger – Pearl Valley Stables -740-545-1809\nSteven A Miller – Mt Hope – 330-674-2292\nJohnny Hershberger – Hidden Meadow Farm – 330-359-5816\nHenry Bowman – Bowman Equine Stables – 330-893-3164 \n\n\n9th Annual Event:\n\nDriving Begins: 8:00 AM\nService Fee Auction: 9:00 AM \nAuctioneers:  Joseph Miller\, Matt Raber & Aden Yoder\nPedigrees:  Lonnie Schlabach & Stephen Yoder
URL:https://mthopesleepinn.com/event/stallion-presentation-day/
LOCATION:Mt. Hope Event Center\, 8076 SR 241\, Millersburg\, OH\, 44654\, United States
CATEGORIES:Auction
ATTACH;FMTTYPE=image/jpeg:https://mthopesleepinn.com/wp-content/uploads/2022/12/stallion_presentaion_mt_hope∂.jpg
ORGANIZER;CN="Mt. Hope Event Center":MAILTO:paul@mthopeauction.com
END:VEVENT
BEGIN:VEVENT
DTSTART;TZID=UTC:20221228T090000
DTEND;TZID=UTC:20221228T180000
DTSTAMP:20260423T044750
CREATED:20221212T202600Z
LAST-MODIFIED:20221213T013937Z
UID:519-1672218000-1672250400@mthopesleepinn.com
SUMMARY:Pioneer Equipment & Product Line Auction
DESCRIPTION:See sales flyer for details. \nFor more details about online bidding please visit this link: https://www.airworksauction.com/view-auction/Pioneer%20Equipment%20Auction%20Dec.%2028\,%202022/
URL:https://mthopesleepinn.com/event/pioneer-equipment-product-line-auction/
LOCATION:Mt. Hope Event Center\, 8076 SR 241\, Millersburg\, OH\, 44654\, United States
CATEGORIES:Auction
ATTACH;FMTTYPE=image/png:https://mthopesleepinn.com/wp-content/uploads/2022/12/Screen-Shot-2022-11-15-at-2.15.56-PM.png
END:VEVENT
END:VCALENDAR